BEGIN:VCALENDAR
VERSION:2.0
PRODID:-//ChamberMaster//Event Calendar 2.0//EN
METHOD:PUBLISH
X-PUBLISHED-TTL:P3D
REFRESH-INTERVAL:P3D
CALSCALE:GREGORIAN
BEGIN:VEVENT
DTSTART:20260606T020000Z
DTEND:20260606T030000Z
X-MICROSOFT-CDO-ALLDAYEVENT:FALSE
SUMMARY:Young Artists Scholarship Concert
DESCRIPTION:Sunriver Music Festival will feature the 2026 Young Artists Scholarship recipients who are among Central Oregon's finest young musicians aspiring to a career in classical music.
X-ALT-DESC;FMTTYPE=text/html:Sunriver Music Festival will feature the 2026 Young Artists Scholarship recipients who are among Central Oregon&rsquo\;s finest young musicians aspiring to a career in classical music.
LOCATION:Community Bible Church at Sunriver - 1 Theater Dr\, Sunriver\, OR 97707
UID:e.9103.22171
SEQUENCE:3
DTSTAMP:20260420T152909Z
URL:https://business.oregonfestivals.org/events/details/young-artists-scholarship-concert-22171
END:VEVENT

END:VCALENDAR
