BEGIN:VCALENDAR
VERSION:2.0
PRODID:-//ChamberMaster//Event Calendar 2.0//EN
METHOD:PUBLISH
X-PUBLISHED-TTL:P3D
REFRESH-INTERVAL:P3D
CALSCALE:GREGORIAN
BEGIN:VEVENT
DTSTART:20230613T003000Z
DTEND:20230613T023000Z
X-MICROSOFT-CDO-ALLDAYEVENT:FALSE
SUMMARY:Women’s Whiskey Class at The Squeaky Cork
DESCRIPTION:Women's Whiskey Class at The Squeaky Cork\n\nJune 12\, 2023 5:30 pm   7:30 pm\n\nThis is a Beginner's Whisky Class.\n\nCost of Class is $99.\n\n \n\n\nWhat's included:\n\n\nPersonal Charcuterie Plate\n\nGlencairne Glass w/our Logo\n\nSmall purse size Whisky Journal\n\n3 (3/4 ounce) tasting of 3 different Whiskies\n\n \n\n\nJosh will be going over the basics of the first steps to learning how to enjoy your new amazing journey into the world of whisky! This class isn't going to be a class where you are told to drink whisky one way. Josh doesn't believe in this\, this is your journey and your experience. He will be teaching you different ways to drink whisky and it's going to be all up to you as to how you like it the most!\n\n\n \n\nThey will also have a Gift Basket that you will be able to enter to win.
X-ALT-DESC;FMTTYPE=text/html:<div>\n<div><strong>Women&rsquo\;s Whiskey Class at The Squeaky Cork</strong></div>\n\n<div><strong>June 12\, 2023 5:30 pm &ndash\; 7:30 pm</strong></div>\n\n<div><strong>This is a Beginner&rsquo\;s Whisky Class.</strong></div>\n\n<div><strong>Cost of Class is $99.</strong><br />\n&nbsp\;</div>\n</div>\n\n<div><em>What&rsquo\;s included:</em></div>\n\n<div>\n<div><em>Personal Charcuterie Plate</em></div>\n\n<div><em>Glencairne Glass w/our Logo</em></div>\n\n<div><em>Small purse size Whisky Journal</em></div>\n\n<div><em>3 (3/4 ounce) tasting of 3 different Whiskies</em><br />\n&nbsp\;</div>\n</div>\n\n<div>Josh will be going over the basics of the first steps to learning how to enjoy your new amazing journey into the world of whisky! This class isn&rsquo\;t going to be a class where you are told to drink whisky one way. Josh doesn&rsquo\;t believe in this\, this is your journey and your experience. He will be teaching you different ways to drink whisky and it&rsquo\;s going to be all up to you as to how you like it the most!</div>\n\n<div>\n<div>&nbsp\;</div>\n\n<div><span style="font-size:1em">They will also have a Gift Basket that you will be able to enter to win.</span></div>\n</div>\n
LOCATION:The Squeaky Cork 136 W 1st Ave Albany\, OR 97321 USA
UID:e.9103.19982
SEQUENCE:3
DTSTAMP:20260425T005409Z
URL:https://business.oregonfestivals.org/events/details/women-s-whiskey-class-at-the-squeaky-cork-19982
END:VEVENT

END:VCALENDAR
