BEGIN:VCALENDAR
VERSION:2.0
PRODID:-//ChamberMaster//Event Calendar 2.0//EN
METHOD:PUBLISH
X-PUBLISHED-TTL:P3D
REFRESH-INTERVAL:P3D
CALSCALE:GREGORIAN
BEGIN:VEVENT
DTSTART:20210606T190000Z
DTEND:20210606T190000Z
X-MICROSOFT-CDO-ALLDAYEVENT:FALSE
SUMMARY:Willamette Humane Society's WillaMutt Strut
DESCRIPTION:On Sunday\, June 6\, the Willamette Humane Society (WHS) will host the 10th annual WillaMutt Strut. This year join the live\, virtual celebration from your computer or phone. WHS staff and animals will celebrate you and your support of shelter pets! Complete your own 1k or 5k walk or run on your own schedule. Perhaps you want to walk in your neighborhood\, at a local park\, or even just to your pup's favorite spot in your backyard. Be sure to snap a picture and share with us on social media! It's up to you if you want to run solo\, or form your own team to train together! Just want to participate from your couch? Don't worry\, we won't tell! Registrants are invited to join us on social media to share training tips and celebrate their races with other walkers and runners\, as well as share photos of their pets participating in the run. You're also invited to go the extra step by running your own fundraiser alongside the race. It's a great way to share your love for shelter pets with friends and family. And\, don't forget about our contests--see if your dog will eat the weirdest foods in "My dog will eat that\," or submit a photo of your pet to win the WillaMutt title\, given to the Muttiest Mutt of all.
X-ALT-DESC;FMTTYPE=text/html:On Sunday\, June 6\, the Willamette Humane Society (WHS) will host the 10th annual WillaMutt Strut. This year join the live\, virtual celebration from your computer or phone. WHS staff and animals will celebrate you and your support of shelter pets! Complete your own 1k or 5k walk or run on your own schedule. Perhaps you want to walk in your neighborhood\, at a local park\, or even just to your pup&#39\;s favorite spot in your backyard. Be sure to snap a picture and share with us on social media! It&#39\;s up to you if you want to run solo\, or form your own team to train together! Just want to participate from your couch? Don&#39\;t worry\, we won&#39\;t tell! Registrants are invited to join us on social media to share training tips and celebrate their races with other walkers and runners\, as well as share photos of their pets participating in the run. You&#39\;re also invited to go the extra step by running your own fundraiser alongside the race. It&#39\;s a great way to share your love for shelter pets with friends and family. And\, don&#39\;t forget about our contests--see if your dog will eat the weirdest foods in &quot\;My dog will eat that\,&quot\; or submit a photo of your pet to win the WillaMutt title\, given to the Muttiest Mutt of all.
LOCATION:Virtual event
UID:e.9103.17307
SEQUENCE:3
DTSTAMP:20260422T105827Z
URL:https://business.oregonfestivals.org/events/details/willamette-humane-society-s-willamutt-strut-17307
END:VEVENT

END:VCALENDAR
