BEGIN:VCALENDAR
VERSION:2.0
PRODID:-//ChamberMaster//Event Calendar 2.0//EN
METHOD:PUBLISH
X-PUBLISHED-TTL:P3D
REFRESH-INTERVAL:P3D
CALSCALE:GREGORIAN
BEGIN:VEVENT
DTSTART:20260711T000000Z
DTEND:20260713T010000Z
X-MICROSOFT-CDO-ALLDAYEVENT:FALSE
SUMMARY:West Linn Old Time Fair
DESCRIPTION:This is West Linn's signature annual event held in beautiful Willamette Park at the confluence of the Tualatin and Willamette Rivers.\n\nWest Linn's annual Old Time Fair attracts more than 13\,000 people throughout the 3-day event. The Old Time Fair includes:\n\n \n\n- West Linn Historical \n\n- Carnival Rides by Rainer Amusements\, LLC\n\n- Community Parade\n\n- Classic Car & Boat show\n\n- Live Music\n\n- Exhibitor & Food Vendor Booths\n\n- Local organization performers\n\n- Beer Garden \n\n-Lumberjack Exhibition and Competition\n\n- and much more
X-ALT-DESC;FMTTYPE=text/html:<p>This is West Linn&#39\;s signature annual event held in beautiful Willamette Park at the confluence of the Tualatin and Willamette Rivers.</p>\n\n<p>West Linn&#39\;s annual Old Time Fair attracts&nbsp\;more than&nbsp\;13\,000 people throughout the 3-day event. The Old Time Fair includes:<br />\n&nbsp\;<br />\n- West Linn Historical&nbsp\;<br />\n- Carnival Rides by Rainer Amusements\, LLC<br />\n- Community Parade<br />\n- Classic Car &amp\; Boat show<br />\n- Live Music<br />\n- Exhibitor &amp\; Food Vendor Booths<br />\n- Local organization performers<br />\n- Beer Garden&nbsp\;<br />\n-Lumberjack Exhibition and Competition<br />\n- and much more</p>\n
LOCATION:Willamette Park 1100 12th Street West Linn\, Or 97068
UID:e.9103.20254
SEQUENCE:3
DTSTAMP:20260420T171734Z
URL:https://business.oregonfestivals.org/events/details/west-linn-old-time-fair-20254
END:VEVENT

END:VCALENDAR
