BEGIN:VCALENDAR
VERSION:2.0
PRODID:-//ChamberMaster//Event Calendar 2.0//EN
METHOD:PUBLISH
X-PUBLISHED-TTL:P3D
REFRESH-INTERVAL:P3D
CALSCALE:GREGORIAN
BEGIN:VEVENT
DTSTART:20260711T150000Z
DTEND:20260712T000000Z
X-MICROSOFT-CDO-ALLDAYEVENT:FALSE
SUMMARY:WAAAM Traffic Jam
DESCRIPTION:WAAAM Air & Auto Museum is having their Annual Traffic Jam!
X-ALT-DESC;FMTTYPE=text/html:WAAAM Air &amp\; Auto Museum is having their Annual Traffic Jam!
LOCATION:Western Antique Aeroplane & Automobile Museum 1600 Air Museum Road Hood River\, OR 97031
UID:e.9103.22063
SEQUENCE:3
DTSTAMP:20260420T171713Z
URL:https://business.oregonfestivals.org/events/details/waaam-traffic-jam-22063
END:VEVENT

END:VCALENDAR
