BEGIN:VCALENDAR
VERSION:2.0
PRODID:-//ChamberMaster//Event Calendar 2.0//EN
METHOD:PUBLISH
X-PUBLISHED-TTL:P3D
REFRESH-INTERVAL:P3D
CALSCALE:GREGORIAN
BEGIN:VEVENT
DTSTART:20260613T180000Z
DTEND:20260614T230000Z
X-MICROSOFT-CDO-ALLDAYEVENT:FALSE
SUMMARY:The National Franchise Show
DESCRIPTION:Take charge of your life and become your own boss!
X-ALT-DESC;FMTTYPE=text/html:Take charge of your life and become your own boss!
LOCATION:Portland Expo Center 2060 N Marine Dr\, Portland\, OR 97217\, United States
UID:e.9103.21929
SEQUENCE:3
DTSTAMP:20260425T234534Z
URL:https://business.oregonfestivals.org/events/details/the-national-franchise-show-21929
END:VEVENT

END:VCALENDAR
