BEGIN:VCALENDAR
VERSION:2.0
PRODID:-//ChamberMaster//Event Calendar 2.0//EN
METHOD:PUBLISH
X-PUBLISHED-TTL:P3D
REFRESH-INTERVAL:P3D
CALSCALE:GREGORIAN
BEGIN:VEVENT
DTSTART:20260516T151500Z
DTEND:20260517T000000Z
X-MICROSOFT-CDO-ALLDAYEVENT:FALSE
SUMMARY:TEDxMtHood
DESCRIPTION:A full-day TEDx experience featuring speakers\, performances\, and interactive sessions focused on strengthening communities and inspiring new ideas.
X-ALT-DESC;FMTTYPE=text/html:A full-day TEDx experience featuring speakers\, performances\, and interactive sessions focused on strengthening communities and inspiring new ideas.
LOCATION:Leonard W. Rice Auditorium 344 Knox St N\, Monmouth\, OR 97361 at Western Oregon University
UID:e.9103.22162
SEQUENCE:3
DTSTAMP:20260420T135212Z
URL:https://business.oregonfestivals.org/events/details/tedxmthood-22162
END:VEVENT

END:VCALENDAR
