BEGIN:VCALENDAR
VERSION:2.0
PRODID:-//ChamberMaster//Event Calendar 2.0//EN
METHOD:PUBLISH
X-PUBLISHED-TTL:P3D
REFRESH-INTERVAL:P3D
CALSCALE:GREGORIAN
BEGIN:VEVENT
DTSTART;VALUE=DATE:20260919
DTEND;VALUE=DATE:20260920
TRANSP:TRANSPARENT
X-MICROSOFT-CDO-ALLDAYEVENT:TRUE
SUMMARY:Tangent Harvest Festival and Combine Demolition Derby & Tractor Pulls
DESCRIPTION:Mark your calendar to save the date\, and plan to join Tangent Together for our Annual Tangent Harvest Festival\, featuring our Combine Demolition Derby and Power Pulls (pulls featuring tractors\, pickups\, and ATVs).\n\n\n\nWe have a full day of fun for you and your family! Follow Tangent Together on Facebook as well as our Harvest Festival Event to keep up to date on the latest! \n\n \n\n\n	6:30 am - Hot air balloon launch (weather permitting)\n	7:00 am - Tangent Fire Department Pancake Breakfast\n	10:00 am - Harvest Festival Parade\n	11:00 am - Tangent Harvest Festival Opens (no entry fee) with:\n	\n		Kids' Village\, including family harvest games\n		OSU Timber Harvest simulators\n		Antique Tractor Display\n		Farm Equipment Display\n		Live Music throughout day\n		Artisan / Craft Fair\n		Community / Information Resources\n		Samaritan Mobile Medical Clinic (at no cost)\n		Food Vendors and OBS Beer Gardens\n	\n	\n	12:00 pm - Gates open to the Derby/Pull Arena (ticketed event)\n	\n		1:00 pm - Tractor\, Truck\, and ATV Pulls begin\n		5:00 pm - Combine Demolition Derby begins\n	\n	\n\n\nTickets will go on sale for the Combine Demolition Derby and Power Pulls later this spring. Stay tuned!\n\n\n\nShout-out to this year's PREMIER SPONSORS of the Tangent Harvest Festival:\n\n\n	Complete Ag\, Tangent Oregon\n	Pape' Machinery\n	Linn-West\n	Western Packaging
X-ALT-DESC;FMTTYPE=text/html:<div>Mark your calendar to save the date\, and plan to join Tangent Together for our Annual Tangent Harvest Festival\, featuring our Combine Demolition Derby and Power Pulls (pulls featuring tractors\, pickups\, and ATVs).</div>\n\n<div><br />\nWe have a full day of fun for you and your family! Follow <strong><a href="https://www.facebook.com/profile.php?id=61575518715612"><span style="color:#0000FF">Tangent Together</span></a></strong> on Facebook as well as our <strong><a href="https://www.facebook.com/events/4221734501475504/?acontext=%7B%22event_action_history%22%3A[%7B%22mechanism%22%3A%22calendar_tab_event%22%2C%22surface%22%3A%22bookmark_calendar%22%7D]%2C%22ref_notif_type%22%3Anull%7D"><span style="color:#0000FF">Harvest Festival Event</span></a></strong> to keep up to date on the latest!&nbsp\;<br />\n&nbsp\;</div>\n\n<ul>\n	<li>6:30 am - Hot air balloon launch (weather permitting)</li>\n	<li>7:00 am - Tangent Fire Department Pancake Breakfast</li>\n	<li>10:00 am - Harvest Festival Parade</li>\n	<li>11:00 am - Tangent Harvest Festival Opens (no entry fee) with:\n	<ul>\n		<li>Kids&#39\; Village\, including family harvest games</li>\n		<li>OSU Timber Harvest simulators</li>\n		<li>Antique Tractor Display</li>\n		<li>Farm Equipment Display</li>\n		<li>Live Music throughout day</li>\n		<li>Artisan / Craft Fair</li>\n		<li>Community / Information Resources</li>\n		<li>Samaritan Mobile Medical Clinic (at no cost)</li>\n		<li>Food Vendors and OBS Beer Gardens</li>\n	</ul>\n	</li>\n	<li>12:00 pm - Gates open to the Derby/Pull Arena (ticketed event)\n	<ul>\n		<li>1:00 pm - Tractor\, Truck\, and ATV Pulls begin</li>\n		<li>5:00 pm - Combine Demolition Derby begins</li>\n	</ul>\n	</li>\n</ul>\n\n<div>Tickets will go on sale for the Combine Demolition Derby and Power Pulls later this spring. Stay tuned!</div>\n\n<div><br />\nShout-out to this year&#39\;s PREMIER SPONSORS of the Tangent Harvest Festival:</div>\n\n<ul>\n	<li>Complete Ag\, Tangent Oregon</li>\n	<li>Pape&#39\; Machinery</li>\n	<li>Linn-West</li>\n	<li>Western Packaging</li>\n</ul>\n
LOCATION:Tangent City Hall and Tangent Elementary School 32166 Old Oak Drive\, Tangent\, OR 97389 (Combine Derby and Power Pulls are held in field behind the school)
UID:e.9103.22129
SEQUENCE:3
DTSTAMP:20260420T204556Z
URL:https://business.oregonfestivals.org/events/details/tangent-harvest-festival-and-combine-demolition-derby-tractor-pulls-22129
END:VEVENT

END:VCALENDAR
