BEGIN:VCALENDAR
VERSION:2.0
PRODID:-//ChamberMaster//Event Calendar 2.0//EN
METHOD:PUBLISH
X-PUBLISHED-TTL:P3D
REFRESH-INTERVAL:P3D
CALSCALE:GREGORIAN
BEGIN:VEVENT
DTSTART:20241019T020000Z
DTEND:20241101T050000Z
X-MICROSOFT-CDO-ALLDAYEVENT:FALSE
SUMMARY:Stabby's Funhouse of Horror
DESCRIPTION:Stabby's Funhouse of Horror\n\nOctober 18th\, 19th\, 25th\, 26th and HALLOWEEN!\n\n7:00pm   10:00pm @ The Elks Lodge 749 SE Jackson St. Roseburg\n\nAdults $13 (13 and up)\, Children $7 (12 and under) \n\nOct. 18th and 25th ONLY - If you show your student ID (Middle School thru College) admission is $10.\n\nHalloween Night ONLY!!!!!! Family Pass $30 (up to 5 people) After 7pm - till the crowds Die out!\n\nWhere Stabby's nightmares began! This haunted attraction contains loud noises\, strobe lights\, fog\, and moments of complete darkness. Please enter with caution if you have a condition that may be aggravated by these elements. May be too intense for the little ones!!\n\nKids Spook Ally\n\nJust after the Neewollah Parade\n\n5:30pm   6:30pm Halloween Night Only\n\nSpecial $1 Admission!
X-ALT-DESC;FMTTYPE=text/html:<p><strong><u>Stabby&#39\;s Funhouse of Horror</u></strong></p>\n\n<p><em>October 18th\, 19th\, 25th\, 26th and HALLOWEEN!</em></p>\n\n<p><em>7:00pm &ndash\; 10:00pm @ The Elks Lodge 749 SE Jackson St. Roseburg</em></p>\n\n<p><em>Adults $13 (13 and up)\, Children $7 (12 and under)&nbsp\;</em></p>\n\n<p><em>Oct. 18th and 25th ONLY - If you show your student ID (Middle School thru College) admission is $10.</em></p>\n\n<p><em>Halloween Night ONLY!!!!!! Family Pass $30 (up to 5 people) After 7pm - till the crowds Die out!</em></p>\n\n<p>Where Stabby&#39\;s nightmares began! This haunted attraction contains loud noises\, strobe lights\, fog\, and moments of complete darkness. Please enter with caution if you have a condition that may be aggravated by these elements. May be too intense for the little ones!!</p>\n\n<p><strong><u>Kids Spook Ally</u></strong></p>\n\n<p><em>Just after the Neewollah Parade</em></p>\n\n<p><em>5:30pm &ndash\; 6:30pm Halloween Night Only</em></p>\n\n<p><em>Special $1 Admission!</em></p>\n
LOCATION:Roseburg Elks Lodge #326
UID:e.9103.21503
SEQUENCE:3
DTSTAMP:20260422T184745Z
URL:https://business.oregonfestivals.org/events/details/stabby-s-funhouse-of-horror-21503
END:VEVENT

END:VCALENDAR
