BEGIN:VCALENDAR
VERSION:2.0
PRODID:-//ChamberMaster//Event Calendar 2.0//EN
METHOD:PUBLISH
X-PUBLISHED-TTL:P3D
REFRESH-INTERVAL:P3D
CALSCALE:GREGORIAN
BEGIN:VEVENT
DTSTART;VALUE=DATE:20260516
DTEND;VALUE=DATE:20260517
TRANSP:TRANSPARENT
X-MICROSOFT-CDO-ALLDAYEVENT:TRUE
SUMMARY:Silverton Paws in the Park
DESCRIPTION:A fun all type of pets focused event in conjunction with the annual Silverton Pet Parade.  A pet fair with vendors\, food\, entertainment and fun for all.  Bring your pets for the parade and stay for the fair!  All pets are welcome. A great family fun event.  This is a great opportunity for vendors\, rescues\, anyone looking to connect with pet enthusiasts or a fun\, family environment of customers. \n\n\n\nWe are looking for pet friendly vendors to join us - if you are interested\, contact the Silverton Chamber at (503) 873-5615 or log on to www.silvertonpaws.com
X-ALT-DESC;FMTTYPE=text/html:<span style="font-size:18px">A fun all type of&nbsp\;pets focused event in conjunction with the annual Silverton Pet Parade.&nbsp\; A pet fair with vendors\, food\, entertainment and fun for all.&nbsp\; Bring your pets for the parade and stay for the fair!&nbsp\; All pets are welcome. A great family fun event.&nbsp\; This is a great opportunity for vendors\, rescues\, anyone looking to connect with pet enthusiasts or a fun\, family environment of customers.&nbsp\;</span><br />\n<br />\n<strong><span style="font-size:18px">We are looking for pet friendly vendors to join us - if you are interested\, contact the Silverton Chamber at (503) 873-5615 or log on to www.silvertonpaws.com&nbsp\;</span></strong>
LOCATION:The fair is nestled in the charming Coolidge McClaine Park in the heart of Silverton\, Oregon. Easy walking paths\, restrooms\, covered areas\, play equipment and more make this a perfect setting for this event.
UID:e.9103.21778
SEQUENCE:3
DTSTAMP:20260420T183659Z
URL:https://business.oregonfestivals.org/events/details/silverton-paws-in-the-park-05-16-2026-21778
END:VEVENT

END:VCALENDAR
