BEGIN:VCALENDAR
VERSION:2.0
PRODID:-//ChamberMaster//Event Calendar 2.0//EN
METHOD:PUBLISH
X-PUBLISHED-TTL:P3D
REFRESH-INTERVAL:P3D
CALSCALE:GREGORIAN
BEGIN:VEVENT
DTSTART:20220626T020000Z
DTEND:20220626T040000Z
X-MICROSOFT-CDO-ALLDAYEVENT:FALSE
SUMMARY:SFF Presents: FY5 & Eli West
DESCRIPTION:SFF presents a free concert by bluegrass band\, FY5 with local PNW folk artist\, Eli West as part of the Bluegrass Jam Camp. SFF's bar will offer beer\, wine\, and alcoholic beverages with free refreshments provided by First Interstate Bank.
X-ALT-DESC;FMTTYPE=text/html:<span style="background-color:transparent\; color:rgb(0\, 0\, 0)\; font-family:calibri\,sans-serif\; font-size:11pt">SFF presents a <strong>free</strong> concert by bluegrass band\, FY5 with local PNW folk artist\, Eli West as part of the Bluegrass Jam Camp. SFF&#39\;s bar will offer beer\, wine\, and alcoholic beverages with free refreshments provided by First Interstate Bank.</span>
LOCATION:Fir Street Park\, Sisters\, OR 97759
UID:e.9103.17642
SEQUENCE:3
DTSTAMP:20260423T215012Z
URL:https://business.oregonfestivals.org/events/details/sff-presents-fy5-eli-west-17642
END:VEVENT

END:VCALENDAR
