BEGIN:VCALENDAR
VERSION:2.0
PRODID:-//ChamberMaster//Event Calendar 2.0//EN
METHOD:PUBLISH
X-PUBLISHED-TTL:P3D
REFRESH-INTERVAL:P3D
CALSCALE:GREGORIAN
BEGIN:VEVENT
DTSTART:20260719T180000Z
DTEND:20260720T000000Z
X-MICROSOFT-CDO-ALLDAYEVENT:FALSE
SUMMARY:Oregon Geo Fest
DESCRIPTION:Join us in celebrating the beauty and mysteries of Planet Earth.
X-ALT-DESC;FMTTYPE=text/html:Join us in celebrating the beauty and mysteries of Planet Earth.
LOCATION:2100 West Broadway\, Eugene\, Oregon
UID:e.9103.22175
SEQUENCE:3
DTSTAMP:20260420T214959Z
URL:https://business.oregonfestivals.org/events/details/oregon-geo-fest-07-19-2026-22175
END:VEVENT

END:VCALENDAR
