BEGIN:VCALENDAR
VERSION:2.0
PRODID:-//ChamberMaster//Event Calendar 2.0//EN
METHOD:PUBLISH
X-PUBLISHED-TTL:P3D
REFRESH-INTERVAL:P3D
CALSCALE:GREGORIAN
BEGIN:VEVENT
DTSTART:20260828T190000Z
DTEND:20260830T050000Z
X-MICROSOFT-CDO-ALLDAYEVENT:FALSE
SUMMARY:Northwest Art and Air Festival
DESCRIPTION:The Northwest Art & Air Festival is a truly unique summer celebration in the heart of Albany. Each morning (weather permitting)\, colorful hot air balloons lift off from Timber-Linn Park\, drifting gracefully over the area. On Friday evening\, balloonists fire up their burners for the spectacular Night Glow\, lighting up the park with a vibrant display of color.\n\nThroughout the weekend\, artists line the grassy meadows with a wide variety of artwork\, while food vendors\, a Family Zone\, live stage performances\, a car show\, and beer\, wine\, and cider gardens offer something for everyone to enjoy. Saturday night\, don't miss the live concert in the amphitheater for an unforgettable festival finale.
X-ALT-DESC;FMTTYPE=text/html:<p>The Northwest Art &amp\; Air Festival is a truly unique summer celebration in the heart of Albany. Each morning (weather permitting)\, colorful hot air balloons lift off from Timber-Linn Park\, drifting gracefully over the area. On Friday evening\, balloonists fire up their burners for the spectacular Night Glow\, lighting up the park with a vibrant display of color.</p>\n\n<p>Throughout the weekend\, artists line the grassy meadows with a wide variety of artwork\, while food vendors\, a Family Zone\, live stage performances\, a car show\, and beer\, wine\, and cider gardens offer something for everyone to enjoy. Saturday night\, don&rsquo\;t miss the live concert in the amphitheater for an unforgettable festival finale.</p>\n<br />\n<br />\n&nbsp\;
LOCATION:Timber Linn Park- 900 Price Rd SE\, Albany\, OR 97322
UID:e.9103.21469
SEQUENCE:3
DTSTAMP:20260420T190720Z
URL:https://business.oregonfestivals.org/events/details/northwest-art-and-air-festival-08-22-2025-21469
END:VEVENT

END:VCALENDAR
