BEGIN:VCALENDAR
VERSION:2.0
PRODID:-//ChamberMaster//Event Calendar 2.0//EN
METHOD:PUBLISH
X-PUBLISHED-TTL:P3D
REFRESH-INTERVAL:P3D
CALSCALE:GREGORIAN
BEGIN:VEVENT
DTSTART:20230603T180000Z
DTEND:20230603T220000Z
X-MICROSOFT-CDO-ALLDAYEVENT:FALSE
SUMMARY:Music On The Square and Re:Current Sidewalk Sale with Mercury Coast
DESCRIPTION:Re:Current and the Tillamook Revitalization Association presents Mercury Coast in a free concert on The Plaza on 2nd Street in Tillamook. Enjoy free live music while shopping at Re:Current's sidewalk sale. Family friendly and free!
X-ALT-DESC;FMTTYPE=text/html:Re:Current and the Tillamook Revitalization Association presents Mercury Coast in a free concert on The Plaza on 2nd Street in Tillamook. Enjoy free live music while shopping at Re:Current&#39\;s sidewalk sale. Family friendly and free!
LOCATION:2nd Street Plaza\, Tillamook Oregon 97141
UID:e.9103.19985
SEQUENCE:3
DTSTAMP:20260425T005626Z
URL:https://business.oregonfestivals.org/events/details/music-on-the-square-and-re-current-sidewalk-sale-with-mercury-coast-19985
END:VEVENT

END:VCALENDAR
