BEGIN:VCALENDAR
VERSION:2.0
PRODID:-//ChamberMaster//Event Calendar 2.0//EN
METHOD:PUBLISH
X-PUBLISHED-TTL:P3D
REFRESH-INTERVAL:P3D
CALSCALE:GREGORIAN
BEGIN:VEVENT
DTSTART:20260411T020000Z
DTEND:20260411T043000Z
X-MICROSOFT-CDO-ALLDAYEVENT:FALSE
SUMMARY:Murder Mystery Co. Dinner Theater Show at The Old Spaghetti Factory
DESCRIPTION:Join the murder mystery experience that puts YOU in the spotlight.
X-ALT-DESC;FMTTYPE=text/html:Join the murder mystery experience that puts YOU in the spotlight.&nbsp\;
LOCATION:The Old Spaghetti Factory 715 South Bancroft Street Portland\, OR 97239
UID:e.9103.22126
SEQUENCE:3
DTSTAMP:20260420T135843Z
URL:https://business.oregonfestivals.org/events/details/murder-mystery-co-dinner-theater-show-at-the-old-spaghetti-factory-22126
END:VEVENT

END:VCALENDAR
