BEGIN:VCALENDAR
VERSION:2.0
PRODID:-//ChamberMaster//Event Calendar 2.0//EN
METHOD:PUBLISH
X-PUBLISHED-TTL:P3D
REFRESH-INTERVAL:P3D
CALSCALE:GREGORIAN
BEGIN:VEVENT
DTSTART:20260619T120000Z
DTEND:20260620T060000Z
X-MICROSOFT-CDO-ALLDAYEVENT:FALSE
SUMMARY:Legends Reloaded: A High Desert Rock N' Roll Fantasy
DESCRIPTION:Harefest LLC\, the Pacific Northwest festival producer\n\nbehind Harefest\, Capital City Retro Fest\, 90's Flannel Fest\, and Seattle Retro Fest\, is proud to\n\nannounce Legends Reloaded\, a two-day classic rock tribute festival taking place June 19 20\,\n\n2026 at the Jefferson County Event Complex in Madras\, Oregon.\n\n\n\nSet against the dramatic high desert landscape of Central Oregon\, Legends Reloaded\n\ncelebrates the music of rock's most iconic artists\, performed by top-tier bands from across the\n\nregion. The inaugural lineup features faithful\, high-energy tributes to legendary acts: Fleetwood\n\nMac\, Eagles\, Tom Petty\, Heart\, Lynyrd Skynyrd\, Led Zeppelin\, ZZ Top\, Bad\n\nCompany\, Hall & Oates\, the Doobie Brothers\, and The Allman Brothers Band.
X-ALT-DESC;FMTTYPE=text/html:Harefest LLC\, the Pacific Northwest festival producer<br />\nbehind Harefest\, Capital City Retro Fest\, 90&rsquo\;s Flannel Fest\, and Seattle Retro Fest\, is proud to<br />\nannounce Legends Reloaded\, a two-day classic rock tribute festival taking place June 19&ndash\;20\,<br />\n2026 at the Jefferson County Event Complex in Madras\, Oregon.<br />\n<br />\nSet against the dramatic high desert landscape of Central Oregon\, Legends Reloaded<br />\ncelebrates the music of rock&rsquo\;s most iconic artists\, performed by top-tier bands from across the<br />\nregion. The inaugural lineup features faithful\, high-energy tributes to legendary acts: Fleetwood<br />\nMac\, Eagles\, Tom Petty\, Heart\, Lynyrd Skynyrd\, Led Zeppelin\, ZZ Top\, Bad<br />\nCompany\, Hall &amp\; Oates\, the Doobie Brothers\, and The Allman Brothers Band.
LOCATION:Jefferson County Event Center 430 SW Fairgrounds Rd\, Madras\, Oregon 97741
UID:e.9103.22115
SEQUENCE:3
DTSTAMP:20260420T153440Z
URL:https://business.oregonfestivals.org/events/details/legends-reloaded-a-high-desert-rock-n-roll-fantasy-22115
END:VEVENT

END:VCALENDAR
