BEGIN:VCALENDAR
VERSION:2.0
PRODID:-//ChamberMaster//Event Calendar 2.0//EN
METHOD:PUBLISH
X-PUBLISHED-TTL:P3D
REFRESH-INTERVAL:P3D
CALSCALE:GREGORIAN
BEGIN:VEVENT
DTSTART:20290616T160000Z
DTEND:20290616T230000Z
X-MICROSOFT-CDO-ALLDAYEVENT:FALSE
SUMMARY:La Pine Rhubarb Festival
DESCRIPTION:Oregon's ONLY Rhubarb Festival!  Join in the celebration of our favorite local vegetable! Rhubarb Beer and Rhubarb Wine for tasting. Rhubarb Salsa\, BBQ Sauce\, Jams & Jellies for sale.  EVERYTHING RHUBARB! Plus music\, vendors\, food & FUN!
X-ALT-DESC;FMTTYPE=text/html:<span style="color:rgb(0\, 128\, 0)"><strong>Oregon&#39\;s ONLY </strong></span><span style="color:rgb(178\, 34\, 34)"><strong>Rhubarb Festival</strong></span><span style="color:rgb(0\, 128\, 0)"><strong>!&nbsp\; Join in the celebration of our favorite local vegetable! Rhubarb Beer and Rhubarb Wine for tasting. Rhubarb Salsa\, BBQ Sauce\, Jams &amp\; Jellies for sale.&nbsp\; EVERYTHING RHUBARB! Plus music\, vendors\, food &amp\; FUN!&nbsp\;</strong></span>
LOCATION:La Pine Senior Activity Center 16450 Victory Way\, La Pine OR
UID:e.9103.16418
SEQUENCE:3
DTSTAMP:20260423T053251Z
URL:https://business.oregonfestivals.org/events/details/la-pine-rhubarb-festival-06-16-2029-16418
END:VEVENT

END:VCALENDAR
