BEGIN:VCALENDAR
VERSION:2.0
PRODID:-//ChamberMaster//Event Calendar 2.0//EN
METHOD:PUBLISH
X-PUBLISHED-TTL:P3D
REFRESH-INTERVAL:P3D
CALSCALE:GREGORIAN
BEGIN:VEVENT
DTSTART:20261115T180000Z
DTEND:20261116T020000Z
X-MICROSOFT-CDO-ALLDAYEVENT:FALSE
SUMMARY:Holiday Market
DESCRIPTION:The Southern Oregon Holiday Market! The largest Holiday Shopping event in Southern Oregon  featuring Artisan\, Craft\, Confectionery\, and Direct Sales businesses from Oregon and Northern California. \n\n\n\nThe tradition started in 2006 with Artisans and craft Vendors\, and now it fills 240 booths in all four buildings of the JC Expo with fabulous gifts and delectable treats!\n\nEmbracing the entire JC Expo Campus\, the Market spills out into four buildings and more!! The Seven Feathers Event Center remains host to only Artisans and Craft Vendors. The Holiday Market will surely have that special gift for everyone on your holiday shopping list!
X-ALT-DESC;FMTTYPE=text/html:<h2><span style="color:rgb(58\, 58\, 58)\; font-family:arial\,sans-serif\; font-size:16px">T</span><span style="color:rgb(58\, 58\, 58)\; font-family:arial\,sans-serif\; font-size:16px">he Southern Oregon Holiday Market! The largest Holiday Shopping event in Southern Oregon&hellip\; featuring Artisan\, Craft\, Confectionery\, and Direct Sales businesses from Oregon and Northern California.&nbsp\;</span></h2>\n\n<h3><br />\n<span style="color:rgb(58\, 58\, 58)\; font-family:arial\,sans-serif\; font-size:16px">The tradition started in 2006 with Artisans and craft Vendors\, and now it fills 240 booths in all four buildings of the JC Expo with fabulous gifts and</span>&nbsp\;<span style="color:rgb(58\, 58\, 58)\; font-family:arial\,sans-serif\; font-size:16px">delectable</span><span style="color:rgb(58\, 58\, 58)\; font-family:arial\,sans-serif\; font-size:16px">&nbsp\;treats!</span></h3>\n\n<p><span style="font-family:arial\,sans-serif\; font-size:16px">Embracing the entire JC Expo Campus\, the Market spills out into four buildings and more!! The Seven Feathers Event Center remains host to only Artisans and Craft Vendors. The Holiday Market will surely have that special gift for everyone on your holiday shopping list!</span></p>\n
LOCATION:21 Peninger Rd Central Point\, OR 97502
UID:e.9103.22057
SEQUENCE:3
DTSTAMP:20260421T000103Z
URL:https://business.oregonfestivals.org/events/details/holiday-market-11-15-2026-22057
END:VEVENT

END:VCALENDAR
