BEGIN:VCALENDAR
VERSION:2.0
PRODID:-//ChamberMaster//Event Calendar 2.0//EN
METHOD:PUBLISH
X-PUBLISHED-TTL:P3D
REFRESH-INTERVAL:P3D
CALSCALE:GREGORIAN
BEGIN:VEVENT
DTSTART:20231118T180000Z
DTEND:20231119T000000Z
X-MICROSOFT-CDO-ALLDAYEVENT:FALSE
SUMMARY:Holiday Faire
DESCRIPTION:Stop and shop for handmade crafts by local artists\, one of a kind item\, Christmas gifts and more!
X-ALT-DESC;FMTTYPE=text/html:Stop and shop for handmade crafts by local artists\, one of a kind item\, Christmas gifts and more!
LOCATION:Greater Jefferson Community Center & Conser House Museum Event Room 107 N. Main St. Jefferson Oregon 97352
UID:e.9103.20942
SEQUENCE:3
DTSTAMP:20260419T123733Z
URL:https://business.oregonfestivals.org/events/details/holiday-faire-20942
END:VEVENT

END:VCALENDAR
