BEGIN:VCALENDAR
VERSION:2.0
PRODID:-//ChamberMaster//Event Calendar 2.0//EN
METHOD:PUBLISH
X-PUBLISHED-TTL:P3D
REFRESH-INTERVAL:P3D
CALSCALE:GREGORIAN
BEGIN:VEVENT
DTSTART:20260725T170000Z
DTEND:20260725T220000Z
X-MICROSOFT-CDO-ALLDAYEVENT:FALSE
SUMMARY:Historic Oakland Oregon's Vintage Street Fair
DESCRIPTION:Historic Oakland Oregon's Fun\, Family Friendly Vintage Street Fair happens on Saturday\, July 25th\n\nAntiques\, Vintage\, Collectibles\, Re-purposed & Fun Treasures to be found!\n\nLive Music\, Vintage Cars\, Delicious Food & Beverages.
X-ALT-DESC;FMTTYPE=text/html:Historic Oakland Oregon&#39\;s Fun\, Family Friendly Vintage Street Fair happens on Saturday\, July 25th<br />\nAntiques\, Vintage\, Collectibles\, Re-purposed &amp\; Fun Treasures to be found!<br />\nLive Music\, Vintage Cars\, Delicious Food &amp\; Beverages.<br />\n&nbsp\;
LOCATION:Historic Oakland Oregon Exit 138 North off I-5 or Exit 140 South off I-5 Just minutes off the freeway.
UID:e.9103.22165
SEQUENCE:3
DTSTAMP:20260420T184032Z
URL:https://business.oregonfestivals.org/events/details/historic-oakland-oregon-s-vintage-street-fair-22165
END:VEVENT

END:VCALENDAR
