BEGIN:VCALENDAR
VERSION:2.0
PRODID:-//ChamberMaster//Event Calendar 2.0//EN
METHOD:PUBLISH
X-PUBLISHED-TTL:P3D
REFRESH-INTERVAL:P3D
CALSCALE:GREGORIAN
BEGIN:VEVENT
DTSTART;VALUE=DATE:20260717
DTEND;VALUE=DATE:20260718
TRANSP:TRANSPARENT
X-MICROSOFT-CDO-ALLDAYEVENT:TRUE
SUMMARY:Harefest: The Mother Of All Tribute Band Festivals
DESCRIPTION:HAREFEST has announced its lineup for the 14th year of the annual\n\ntribute band music festival at the Clackamas County Fairgrounds & Event Center. The 3-day festival is\n\ncoming up July 16\, 17\, & 18\, 2026\n\n\n\nHarefest is a 21 & over event and tickets go on sale Friday\, February 27 th at 10am via Afton Tickets\n\nat harefest.com/tickets.
X-ALT-DESC;FMTTYPE=text/html:HAREFEST has announced its lineup for the 14th year of the annual<br />\ntribute band music festival at the Clackamas County Fairgrounds &amp\; Event Center. The 3-day festival is<br />\ncoming up July 16\, 17\, &amp\; 18\, 2026<br />\n<br />\nHarefest is a 21 &amp\; over event and tickets go on sale Friday\, February 27 th at 10am via Afton Tickets<br />\nat harefest.com/tickets.<br />\n&nbsp\;
LOCATION:Clackamas County Fairgrounds 814 NE 4th Ave\, Canby\, OR 97013-2300
UID:e.9103.22118
SEQUENCE:3
DTSTAMP:20260420T172839Z
URL:https://business.oregonfestivals.org/events/details/harefest-the-mother-of-all-tribute-band-festivals-07-17-2026-22118
END:VEVENT

END:VCALENDAR
