BEGIN:VCALENDAR
VERSION:2.0
PRODID:-//ChamberMaster//Event Calendar 2.0//EN
METHOD:PUBLISH
X-PUBLISHED-TTL:P3D
REFRESH-INTERVAL:P3D
CALSCALE:GREGORIAN
BEGIN:VEVENT
DTSTART:20260607T020000Z
DTEND:20260607T040000Z
X-MICROSOFT-CDO-ALLDAYEVENT:FALSE
SUMMARY:Happy 250th Birthday America! A Celebration of American Composers
DESCRIPTION:Join Willamette Valley Symphony for a festive celebration of American music as we honor the 250th anniversary of our nation.
X-ALT-DESC;FMTTYPE=text/html:Join Willamette Valley Symphony for a festive celebration of American music as we honor the 250th anniversary of our nation.&nbsp\;
LOCATION:Albany Performing Arts Center 2100 SW Elm St\, Albany\, OR 97321
UID:e.9103.21968
SEQUENCE:3
DTSTAMP:20260420T153452Z
URL:https://business.oregonfestivals.org/events/details/happy-250th-birthday-america-a-celebration-of-american-composers-21968
END:VEVENT

END:VCALENDAR
