BEGIN:VCALENDAR
VERSION:2.0
PRODID:-//ChamberMaster//Event Calendar 2.0//EN
METHOD:PUBLISH
X-PUBLISHED-TTL:P3D
REFRESH-INTERVAL:P3D
CALSCALE:GREGORIAN
BEGIN:VEVENT
DTSTART;VALUE=DATE:20260708
DTEND;VALUE=DATE:20260713
TRANSP:TRANSPARENT
X-MICROSOFT-CDO-ALLDAYEVENT:TRUE
SUMMARY:GRAFFITI WEEKEND 2026
DESCRIPTION:GRAFFITI WEEKEND 2026 \n\n\n\nFor a few days in July\, Roseburg turns into a sea of bright colors\, smokey fumes\, roaring engines and tons of smiling faces. Graffiti Weekend is a favorite annual event in Roseburg and the premier car show event in the Pacific Northwest bringing in more than 1\,000 classic cars and trucks. While Graffiti Weekend is packed with back-to-back cruises\, competitions and shows\, everything seems to slow down and take a step back in time during this nostalgic and not-to-be missed event. \n\n\n\nDates: July 8th - 12th\, 2026\n\n\n\nMultiple classic car events & festivities. Classic fun for everyone. Graffiti Weekend is a family event. As such\, the use of drugs or alcohol is discouraged by the event organizers. \n\n\n\nThe Graffiti Weekend Committee\, and all sponsoring groups\, reserve the right to exclude or reject\, without recourse\, any person or vehicle deemed objectionable. None of the sponsoring organizations will be liable for any accident\, injury\, damages or losses. \n\n\n\nAll traffic and rules of the road will be enforced at all Graffiti events. Street burnouts will not be tolerated.  \n\n\n\nFor the full schedule of events please visit: https://www.graffitiweekend.com/calendar \n\n\n\nFor more information\, write or call: \n\n\n\nGraffiti Weekend Committee \n\n\n\nPO Box 882 \n\n\n\nRoseburg\, OR 97470 \n\n\n\ncontact@graffitiweekend.com \n\n\n\nOR...Contact Bob Scott: (541) 430-4009\, bscott1305@gmail.com
X-ALT-DESC;FMTTYPE=text/html:<div>\n<p><strong>GRAFFITI WEEKEND 2026</strong><span style="font-family:segoe ui\,segoe ui_embeddedfont\,segoe ui_msfontservice\,sans-serif\; font-size:11pt">&nbsp\;</span></p>\n</div>\n\n<div>\n<p><span style="font-family:segoe ui\,segoe ui_embeddedfont\,segoe ui_msfontservice\,sans-serif\; font-size:11pt">For a few days in July\, Roseburg turns into a sea of bright colors\, smokey fumes\, roaring engines and tons of smiling faces. Graffiti Weekend is a favorite annual event in Roseburg and the premier car show event in the Pacific Northwest bringing in more than 1\,000 classic cars and trucks. While Graffiti Weekend is packed with back-to-back cruises\, competitions and shows\, everything seems to slow down and take a step back in time during this nostalgic and not-to-be missed event.</span><span style="font-family:segoe ui\,segoe ui_embeddedfont\,segoe ui_msfontservice\,sans-serif\; font-size:11pt">&nbsp\;</span></p>\n</div>\n\n<div>\n<p><strong><span style="font-family:segoe ui\,segoe ui_embeddedfont\,segoe ui_msfontservice\,sans-serif\; font-size:11pt">Dates: July 8th - 12th\, 2026</span></strong></p>\n</div>\n\n<div>\n<p><span style="font-family:segoe ui\,segoe ui_embeddedfont\,segoe ui_msfontservice\,sans-serif\; font-size:11pt">Multiple classic car events &amp\; festivities. Classic fun for everyone. Graffiti Weekend is a family event. As such\, the use of drugs or alcohol is discouraged by the event organizers.</span><span style="font-family:segoe ui\,segoe ui_embeddedfont\,segoe ui_msfontservice\,sans-serif\; font-size:11pt">&nbsp\;</span></p>\n</div>\n\n<div>\n<p><span style="font-family:segoe ui\,segoe ui_embeddedfont\,segoe ui_msfontservice\,sans-serif\; font-size:11pt">The Graffiti Weekend Committee\, and all sponsoring groups\, reserve the right to exclude or reject\, without recourse\, any person or vehicle deemed objectionable. None of the sponsoring organizations will be liable for any accident\, injury\, damages or losses.</span><span style="font-family:segoe ui\,segoe ui_embeddedfont\,segoe ui_msfontservice\,sans-serif\; font-size:11pt">&nbsp\;</span></p>\n</div>\n\n<div>\n<p><span style="font-family:segoe ui\,segoe ui_embeddedfont\,segoe ui_msfontservice\,sans-serif\; font-size:11pt">All traffic and rules of the road will be enforced at all Graffiti events. Street burnouts will not be tolerated. </span><span style="font-family:segoe ui\,segoe ui_embeddedfont\,segoe ui_msfontservice\,sans-serif\; font-size:11pt">&nbsp\;</span></p>\n</div>\n\n<div>\n<p><span style="font-family:segoe ui\,segoe ui_embeddedfont\,segoe ui_msfontservice\,sans-serif\; font-size:11pt"><strong>For the full schedule of events please visit:</strong> </span><a class="Hyperlink SCXW59982374 BCX0" href="https://www.graffitiweekend.com/calendar" rel="noreferrer noopener" style="-webkit-user-drag: none\; -webkit-tap-highlight-color: transparent\; margin: 0px\; padding: 0px\; user-select: text\; text-decoration-line: none\;" target="_blank"><span style="color:rgb(5\, 99\, 193)\; font-family:segoe ui\,segoe ui_embeddedfont\,segoe ui_msfontservice\,sans-serif\; font-size:11pt">https://www.graffitiweekend.com/calendar</span></a><span style="font-family:calibri\,calibri_embeddedfont\,calibri_msfontservice\,sans-serif\; font-size:11pt">&nbsp\;</span></p>\n</div>\n\n<div>\n<p><span style="font-family:segoe ui\,segoe ui_embeddedfont\,segoe ui_msfontservice\,sans-serif\; font-size:11pt">For more information\, write or call:</span><span style="font-family:segoe ui\,segoe ui_embeddedfont\,segoe ui_msfontservice\,sans-serif\; font-size:11pt">&nbsp\;</span></p>\n</div>\n\n<div>\n<p><span style="font-family:segoe ui\,segoe ui_embeddedfont\,segoe ui_msfontservice\,sans-serif\; font-size:11pt">Graffiti Weekend Committee</span><span style="font-family:segoe ui\,segoe ui_embeddedfont\,segoe ui_msfontservice\,sans-serif\; font-size:11pt">&nbsp\;</span></p>\n</div>\n\n<div>\n<p><span style="font-family:segoe ui\,segoe ui_embeddedfont\,segoe ui_msfontservice\,sans-serif\; font-size:11pt">PO Box 882</span><span style="font-family:segoe ui\,segoe ui_embeddedfont\,segoe ui_msfontservice\,sans-serif\; font-size:11pt">&nbsp\;</span></p>\n</div>\n\n<div>\n<p><span style="font-family:segoe ui\,segoe ui_embeddedfont\,segoe ui_msfontservice\,sans-serif\; font-size:11pt">Roseburg\, OR 97470</span><span style="font-family:segoe ui\,segoe ui_embeddedfont\,segoe ui_msfontservice\,sans-serif\; font-size:11pt">&nbsp\;</span></p>\n</div>\n\n<div>\n<p><a class="Hyperlink SCXW59982374 BCX0" href="mailto:contact@graffitiweekend.com" rel="noreferrer noopener" style="-webkit-user-drag: none\; -webkit-tap-highlight-color: transparent\; margin: 0px\; padding: 0px\; user-select: text\; text-decoration-line: none\;" target="_blank"><span style="color:rgb(5\, 99\, 193)\; font-family:segoe ui\,segoe ui_embeddedfont\,segoe ui_msfontservice\,sans-serif\; font-size:11pt">contact@graffitiweekend.com</span></a><span style="font-family:calibri\,calibri_embeddedfont\,calibri_msfontservice\,sans-serif\; font-size:11pt">&nbsp\;</span></p>\n</div>\n\n<div>\n<p><span style="font-family:segoe ui\,segoe ui_embeddedfont\,segoe ui_msfontservice\,sans-serif\; font-size:11pt">OR...Contact Bob Scott: (541) 430-4009\, </span><a class="Hyperlink SCXW59982374 BCX0" href="mailto:bscott1305@gmail.com" rel="noreferrer noopener" style="-webkit-user-drag: none\; -webkit-tap-highlight-color: transparent\; margin: 0px\; padding: 0px\; user-select: text\; text-decoration-line: none\;" target="_blank"><span style="color:rgb(5\, 99\, 193)\; font-family:segoe ui\,segoe ui_embeddedfont\,segoe ui_msfontservice\,sans-serif\; font-size:11pt">bscott1305@gmail.com</span></a><span style="font-family:calibri\,calibri_embeddedfont\,calibri_msfontservice\,sans-serif\; font-size:11pt">&nbsp\;</span></p>\n</div>\n
LOCATION:Various locations throughout Roseburg and the surrounding areas (see description for details)
UID:e.9103.22142
SEQUENCE:3
DTSTAMP:20260420T171110Z
URL:https://business.oregonfestivals.org/events/details/graffiti-weekend-2026-22142
END:VEVENT

END:VCALENDAR
