BEGIN:VCALENDAR
VERSION:2.0
PRODID:-//ChamberMaster//Event Calendar 2.0//EN
METHOD:PUBLISH
X-PUBLISHED-TTL:P3D
REFRESH-INTERVAL:P3D
CALSCALE:GREGORIAN
BEGIN:VEVENT
DTSTART:20260502T003000Z
DTEND:20260502T030000Z
X-MICROSOFT-CDO-ALLDAYEVENT:FALSE
SUMMARY:Eugene's May 1st First Friday ArtWalk
DESCRIPTION:Explore Downtown Eugene's vibrant arts scene during the May 1st First Friday ArtWalk.
X-ALT-DESC;FMTTYPE=text/html:Explore Downtown Eugene&rsquo\;s vibrant arts scene during the May 1st First Friday ArtWalk.
LOCATION:Farmers Market Pavilion 85 E 8th Avenue\, Eugene OR 97405
UID:e.9103.22173
SEQUENCE:3
DTSTAMP:20260420T214412Z
URL:https://business.oregonfestivals.org/events/details/eugene-s-may-1st-first-friday-artwalk-22173
END:VEVENT

END:VCALENDAR
