BEGIN:VCALENDAR
VERSION:2.0
PRODID:-//ChamberMaster//Event Calendar 2.0//EN
METHOD:PUBLISH
X-PUBLISHED-TTL:P3D
REFRESH-INTERVAL:P3D
CALSCALE:GREGORIAN
BEGIN:VEVENT
DTSTART:20260404T200000Z
DTEND:20260404T211500Z
X-MICROSOFT-CDO-ALLDAYEVENT:FALSE
SUMMARY:Deepwood Easter Egg Hunt
DESCRIPTION:A local family favorite is Deepwood's Easter Egg Hunt!
X-ALT-DESC;FMTTYPE=text/html:A local family favorite is Deepwood&rsquo\;s Easter Egg Hunt!&nbsp\;
LOCATION:Deepwood Museum & Gardens 1116 Mission Street SE Salem\, OR 97302
UID:e.9103.22131
SEQUENCE:3
DTSTAMP:20260420T121353Z
URL:https://business.oregonfestivals.org/events/details/deepwood-easter-egg-hunt-04-04-2026-22131
END:VEVENT

END:VCALENDAR
