BEGIN:VCALENDAR
VERSION:2.0
PRODID:-//ChamberMaster//Event Calendar 2.0//EN
METHOD:PUBLISH
X-PUBLISHED-TTL:P3D
REFRESH-INTERVAL:P3D
CALSCALE:GREGORIAN
BEGIN:VEVENT
DTSTART:20250419T200000Z
DTEND:20250419T220000Z
X-MICROSOFT-CDO-ALLDAYEVENT:FALSE
SUMMARY:Deepwood 2025 Easter Egg Hunt
DESCRIPTION:A family favorite for many in the area is Deepwood's Easter Egg Hunt!
X-ALT-DESC;FMTTYPE=text/html:A family favorite for many in the area is Deepwood&rsquo\;s Easter Egg Hunt!
LOCATION:Deepwood Museum & Gardens 1116 Mission Street SE Salem\, OR 97302
UID:e.9103.21764
SEQUENCE:3
DTSTAMP:20260421T095837Z
URL:https://business.oregonfestivals.org/events/details/deepwood-2025-easter-egg-hunt-21764
END:VEVENT

END:VCALENDAR
