BEGIN:VCALENDAR
VERSION:2.0
PRODID:-//ChamberMaster//Event Calendar 2.0//EN
METHOD:PUBLISH
X-PUBLISHED-TTL:P3D
REFRESH-INTERVAL:P3D
CALSCALE:GREGORIAN
BEGIN:VEVENT
DTSTART:20230729T010000Z
DTEND:20230729T050000Z
X-MICROSOFT-CDO-ALLDAYEVENT:FALSE
SUMMARY:Dave Koenig's "Brothers of Blues" at the Back Alley North Bend
DESCRIPTION:Dave Koenig brings his blues magic to North Bend at the Back Alley Bar and Grill concert venue. Dave Koenig was the featured Blues Brothers entertainer at Universal Studios Florida for over 15 years. He is also the world Ripley's record holder for singing Soul Man. Come join Dave and his guests Scott Casey and the Unsung Heroes for a night of great music\, beer food and fun. Bring your sunglasses!
X-ALT-DESC;FMTTYPE=text/html:<span style="background-color:rgb(255\, 255\, 255)\; color:rgb(51\, 51\, 51)\; font-family:oxygen\,sans-serif\; font-size:16px">Dave Koenig brings his blues magic to North Bend at the Back Alley Bar and Grill concert venue. Dave Koenig was the featured Blues Brothers entertainer at Universal Studios Florida for over 15 years. He is also the world Ripley&#39\;s record holder for singing Soul Man. Come join Dave and his guests Scott Casey and the Unsung Heroes for a night of great music\, beer food and fun. Bring your sunglasses!</span>
LOCATION:Back Alley Bar and Grill 1225 Virginia Ave\, North Bend\, OR 97459
UID:e.9103.19983
SEQUENCE:3
DTSTAMP:20260425T005723Z
URL:https://business.oregonfestivals.org/events/details/dave-koenig-s-brothers-of-blues-at-the-back-alley-north-bend-19983
END:VEVENT

END:VCALENDAR
