BEGIN:VCALENDAR
VERSION:2.0
PRODID:-//ChamberMaster//Event Calendar 2.0//EN
METHOD:PUBLISH
X-PUBLISHED-TTL:P3D
REFRESH-INTERVAL:P3D
CALSCALE:GREGORIAN
BEGIN:VEVENT
DTSTART:20260517T020000Z
DTEND:20260517T043000Z
X-MICROSOFT-CDO-ALLDAYEVENT:FALSE
SUMMARY:Central Point Wild Rogue Pro Rodeo
DESCRIPTION:The rodeo is the home of the only 100-point bull ride in rodeo history\, and First Place Winner of the 2014 and 2015 Justin Boots Best Footing Award on the Columbia River Circuit. Top performers of the Professional Rodeo Cowboy's Association (PRCA) compete for over $74\,000 in prize money.
X-ALT-DESC;FMTTYPE=text/html:<span style="color:rgb(102\, 102\, 102)\; font-family:open sans\,sans-serif\; font-size:15.4px">The rodeo is the home of the only 100-point bull ride in rodeo history\, and First Place Winner of the 2014 and 2015 Justin Boots Best Footing Award on the Columbia River Circuit. Top performers of the Professional Rodeo Cowboy&#39\;s Association (PRCA)&nbsp\;compete for over $74\,000 in prize money.&nbsp\;</span>
LOCATION:21 Peninger Rd Central Point OR 97502
UID:e.9103.22055
SEQUENCE:3
DTSTAMP:20260420T135712Z
URL:https://business.oregonfestivals.org/events/details/central-point-wild-rogue-pro-rodeo-05-16-2026-22055
END:VEVENT

END:VCALENDAR
