BEGIN:VCALENDAR
VERSION:2.0
PRODID:-//ChamberMaster//Event Calendar 2.0//EN
METHOD:PUBLISH
X-PUBLISHED-TTL:P3D
REFRESH-INTERVAL:P3D
CALSCALE:GREGORIAN
BEGIN:VEVENT
DTSTART:20260509T170000Z
DTEND:20260511T010000Z
X-MICROSOFT-CDO-ALLDAYEVENT:FALSE
SUMMARY:Celebrate National Train Day at the Oregon Rail Heritage Center
DESCRIPTION:National Train Day: May 9 & 10\, 10:00am-6:00pm Get ready for two full days of steam\, history\, and railroad excitement at the Oregon Rail Heritage Center's annual National Train Day Celebration! This year\, we're going bigger with two action-packed days of family fun\, historic locomotives\, and unforgettable railroading experiences\, on Saturday\, May 9 and Sunday\, May 10. There will be something for everyone to enjoy\, including:   SP 4449 and SP&S 700 under steam   Cab tours of these legendary locomotives   Turntable demonstrations   Model railroad displays from local clubs and enthusiasts   Food trucks and refreshments   Family-friendly activities   Opportunities to explore the museum and rail yard   And plenty of railroading excitement all weekend long! Want to make your Train Day visit even more memorable? Hop aboard for a steam-powered excursion behind the historic Polson #2 locomotive and enjoy a ride you won't soon forget. General admission for Train Day festivities is $5 per person and free for infants under 3 and ORHC members. Train rides start at $25 for adults and $15 for children and include event admission. For more information and to purchase tickets\, visit https://orhf.org/blog/national-train-day-returns-may-9-10-2026/. Don't miss one of Portland's most exciting and historic events of the year come see\, hear\, and ride living railroad history!
X-ALT-DESC;FMTTYPE=text/html:National Train Day: May 9 &amp\; 10\, 10:00am-6:00pm Get ready for two full days of steam\, history\, and railroad excitement at the Oregon Rail Heritage Center&rsquo\;s annual National Train Day Celebration! This year\, we&rsquo\;re going bigger&mdash\;with two action-packed days of family fun\, historic locomotives\, and unforgettable railroading experiences\, on Saturday\, May 9 and Sunday\, May 10. There will be something for everyone to enjoy\, including: &bull\; SP 4449 and SP&amp\;S 700 under steam &bull\; Cab tours of these legendary locomotives &bull\; Turntable demonstrations &bull\; Model railroad displays from local clubs and enthusiasts &bull\; Food trucks and refreshments &bull\; Family-friendly activities &bull\; Opportunities to explore the museum and rail yard &bull\; And plenty of railroading excitement all weekend long! Want to make your Train Day visit even more memorable? Hop aboard for a steam-powered excursion behind the historic Polson #2 locomotive and enjoy a ride you won&rsquo\;t soon forget. General admission for Train Day festivities is $5 per person and free for infants under 3 and ORHC members. Train rides start at $25 for adults and $15 for children and include event admission. For more information and to purchase tickets\, visit https://orhf.org/blog/national-train-day-returns-may-9-10-2026/. Don&rsquo\;t miss one of Portland&rsquo\;s most exciting and historic events of the year&mdash\;come see\, hear\, and ride living railroad history!
LOCATION:Oregon Rail Heritage Center 2250 SE Water Avenue Portland\, OR 97214
UID:e.9103.22169
SEQUENCE:3
DTSTAMP:20260420T135428Z
URL:https://business.oregonfestivals.org/events/details/celebrate-national-train-day-at-the-oregon-rail-heritage-center-22169
END:VEVENT

END:VCALENDAR
