BEGIN:VCALENDAR
VERSION:2.0
PRODID:-//ChamberMaster//Event Calendar 2.0//EN
METHOD:PUBLISH
X-PUBLISHED-TTL:P3D
REFRESH-INTERVAL:P3D
CALSCALE:GREGORIAN
BEGIN:VEVENT
DTSTART:20260817T000000Z
DTEND:20260817T053000Z
X-MICROSOFT-CDO-ALLDAYEVENT:FALSE
SUMMARY:Capital City Retro Fest
DESCRIPTION:Harefest\, LLC\, best known for producing annual tribute band\n\nfestivals like Harefest and 90s Flannel Fest\, brings a three-night series of ALL AGES concerts to Salem's\n\nWaterfront Park this August 14\, 15 & 16.
X-ALT-DESC;FMTTYPE=text/html:<div><span style="font-size:13px">Harefest\, LLC\, best known for producing annual tribute band</span></div>\n\n<div><span style="font-size:13px">festivals like Harefest and 90s Flannel Fest\, brings a three-night series of ALL AGES concerts to Salem&rsquo\;s</span></div>\n\n<div><span style="font-size:13px">Waterfront Park this August 14\, 15 &amp\; 16.</span></div>\n
LOCATION:Gerry Frank Amphitheater Riverfront City Park\, 200 Water St NE\, Salem\, OR 97301
UID:e.9103.22136
SEQUENCE:3
DTSTAMP:20260420T190657Z
URL:https://business.oregonfestivals.org/events/details/capital-city-retro-fest-08-16-2026-22136
END:VEVENT

END:VCALENDAR
