BEGIN:VCALENDAR
VERSION:2.0
PRODID:-//ChamberMaster//Event Calendar 2.0//EN
METHOD:PUBLISH
X-PUBLISHED-TTL:P3D
REFRESH-INTERVAL:P3D
CALSCALE:GREGORIAN
BEGIN:VEVENT
DTSTART:20240720T160000Z
DTEND:20240720T200000Z
X-MICROSOFT-CDO-ALLDAYEVENT:FALSE
SUMMARY:Barn Finds and Grammas Ride Car Show
DESCRIPTION:Whether you're interested in a fully restored car or one just found in a barn\, this event is for you!
X-ALT-DESC;FMTTYPE=text/html:Whether you&#39\;re interested in a fully restored car or one just found in a barn\, this event is for you!&nbsp\;
LOCATION:The Yamhill County Historical Society
UID:e.9103.21360
SEQUENCE:3
DTSTAMP:20260426T003505Z
URL:https://business.oregonfestivals.org/events/details/barn-finds-and-grammas-ride-car-show-21360
END:VEVENT

END:VCALENDAR
