BEGIN:VCALENDAR
VERSION:2.0
PRODID:-//ChamberMaster//Event Calendar 2.0//EN
METHOD:PUBLISH
X-PUBLISHED-TTL:P3D
REFRESH-INTERVAL:P3D
CALSCALE:GREGORIAN
BEGIN:VEVENT
DTSTART:20260516T180000Z
DTEND:20260516T220000Z
X-MICROSOFT-CDO-ALLDAYEVENT:FALSE
SUMMARY:Barks & Recreation
DESCRIPTION:Join us for Barks & Recreation\, a dog friendly community celebration in the park!
X-ALT-DESC;FMTTYPE=text/html:Join us for Barks &amp\; Recreation\, a dog friendly community celebration in the park!
LOCATION:Stewart Park (by the Half Shell) 1005 NW Stewart Park Dr\, Roseburg
UID:e.9103.22166
SEQUENCE:3
DTSTAMP:20260420T135252Z
URL:https://business.oregonfestivals.org/events/details/barks-recreation-05-16-2026-22166
END:VEVENT

END:VCALENDAR
