BEGIN:VCALENDAR
VERSION:2.0
PRODID:-//ChamberMaster//Event Calendar 2.0//EN
METHOD:PUBLISH
X-PUBLISHED-TTL:P3D
REFRESH-INTERVAL:P3D
CALSCALE:GREGORIAN
BEGIN:VEVENT
DTSTART:20260411T170000Z
DTEND:20260411T200000Z
X-MICROSOFT-CDO-ALLDAYEVENT:FALSE
SUMMARY:Bakers Dozen Fest
DESCRIPTION:The idea is for you to get to enjoy all 13 different coffee-infused beers (3 oz pours)\, many of the specific coffees featured in those beers\, and samples of all 13 different doughnuts as you revel in the gustatory bounty we have here in Portland\, a.k.a. Beervana\, or Coffeetopia\, or Doughnuttown. The festival starts at brunch time (10 a.m) and ends at 1 p.m. to allow you to still have the rest of your Saturday to enjoy other adventures  or simply go home and take a nap.
X-ALT-DESC;FMTTYPE=text/html:The idea is for you to get to enjoy all 13 different coffee-infused beers (3 oz pours)\, many of the specific coffees featured in those beers\, and samples of all 13 different doughnuts as you revel in the gustatory bounty we have here in Portland\, a.k.a. Beervana\, or Coffeetopia\, or Doughnuttown. The festival starts at brunch time (10 a.m) and ends at 1 p.m. to allow you to still have the rest of your Saturday to enjoy other adventures&hellip\; or simply go home and take a nap.
LOCATION:The Zed at Zoiglhause\, 5716 SE 92nd Ave.\, Portland
UID:e.9103.22141
SEQUENCE:3
DTSTAMP:20260420T121936Z
URL:https://business.oregonfestivals.org/events/details/bakers-dozen-fest-22141
END:VEVENT

END:VCALENDAR
