BEGIN:VCALENDAR
VERSION:2.0
PRODID:-//ChamberMaster//Event Calendar 2.0//EN
METHOD:PUBLISH
X-PUBLISHED-TTL:P3D
REFRESH-INTERVAL:P3D
CALSCALE:GREGORIAN
BEGIN:VEVENT
DTSTART:20260912T150000Z
DTEND:20260914T000000Z
X-MICROSOFT-CDO-ALLDAYEVENT:FALSE
SUMMARY:Annual Hood River Fly-In at WAAAM
DESCRIPTION:The Annual Hood River Fly-In at the Western Antique Aeroplane & Automobile Museum is a weekend of aviation celebration and family fun.
X-ALT-DESC;FMTTYPE=text/html:&nbsp\;The Annual Hood River Fly-In at the Western Antique Aeroplane &amp\; Automobile Museum is a weekend of aviation celebration and family fun.&nbsp\;
LOCATION:Western Antique Aeroplane & Automobile Museum 1600 Air Museum Road Hood River\, OR 97031
UID:e.9103.22064
SEQUENCE:3
DTSTAMP:20260420T204005Z
URL:https://business.oregonfestivals.org/events/details/annual-hood-river-fly-in-at-waaam-22064
END:VEVENT

END:VCALENDAR
