BEGIN:VCALENDAR
VERSION:2.0
PRODID:-//ChamberMaster//Event Calendar 2.0//EN
METHOD:PUBLISH
X-PUBLISHED-TTL:P3D
REFRESH-INTERVAL:P3D
CALSCALE:GREGORIAN
BEGIN:VEVENT
DTSTART:20230610T190000Z
DTEND:20230610T230000Z
X-MICROSOFT-CDO-ALLDAYEVENT:FALSE
SUMMARY:Albany Regional Museum Grand Reopening
DESCRIPTION:Join the Albany Regional Museum staff for the ribbon cutting as they present new exhibits to the public for the first time\, then take a tour and enjoy music and cake to celebrate!
X-ALT-DESC;FMTTYPE=text/html:<span style="color:rgba(0\, 0\, 0\, 0.5)\; font-family:open sans\,arial\,helvetica\,sans-serif\; font-size:12.96px">Join the Albany Regional Museum staff for the ribbon cutting as they present new exhibits to the public for the first time\, then take a tour and enjoy music and cake to celebrate!</span>
LOCATION:Albany Regional Museum 136 SE Lyon St Albany\, OR 97321 USA
UID:e.9103.19984
SEQUENCE:3
DTSTAMP:20260425T005307Z
URL:https://business.oregonfestivals.org/events/details/albany-regional-museum-grand-reopening-19984
END:VEVENT

END:VCALENDAR
