BEGIN:VCALENDAR
VERSION:2.0
PRODID:-//ChamberMaster//Event Calendar 2.0//EN
METHOD:PUBLISH
X-PUBLISHED-TTL:P3D
REFRESH-INTERVAL:P3D
CALSCALE:GREGORIAN
BEGIN:VEVENT
DTSTART:20230624T023000Z
DTEND:20230624T050000Z
X-MICROSOFT-CDO-ALLDAYEVENT:FALSE
SUMMARY:Albany Civic Theater presents: Moonglow
DESCRIPTION:Maxine\, a feisty\, bitter Alzheimer's victim\, doesn't want to move into a nursing facility. But when she meets Joe\, a widower who shares her love for dance\, her outlook begins to change. Although the two clash when lucid\, their hazy memories overlap\, and they begin an affair that rejuvenates and fulfills them. But can these lovers   played simultaneously by an elderly twosome and a young\, vivacious couple   stay together despite their families' wishes and their fading vitality?
X-ALT-DESC;FMTTYPE=text/html:<span style="font-family:open sans\,arial\,helvetica\,sans-serif\; font-size:12.96px">Maxine\, a feisty\, bitter Alzheimer&rsquo\;s victim\, doesn&rsquo\;t want to move into a nursing facility. But when she meets Joe\, a widower who shares her love for dance\, her outlook begins to change. Although the two clash when lucid\, their hazy memories overlap\, and they begin an affair that rejuvenates and fulfills them. But can these lovers &mdash\; played simultaneously by an elderly twosome and a young\, vivacious couple &mdash\; stay together despite their families&rsquo\; wishes and their fading vitality?&nbsp\;</span>
LOCATION:Albany Civic Theater 111 SE 1st Ave Albany\, OR 97321 USA
UID:e.9103.19986
SEQUENCE:3
DTSTAMP:20260425T005226Z
URL:https://business.oregonfestivals.org/events/details/albany-civic-theater-presents-moonglow-19986
END:VEVENT

END:VCALENDAR
