BEGIN:VCALENDAR
VERSION:2.0
PRODID:-//ChamberMaster//Event Calendar 2.0//EN
METHOD:PUBLISH
X-PUBLISHED-TTL:P3D
REFRESH-INTERVAL:P3D
CALSCALE:GREGORIAN
BEGIN:VEVENT
DTSTART:20260501T170000Z
DTEND:20260504T000000Z
X-MICROSOFT-CDO-ALLDAYEVENT:FALSE
SUMMARY:2026 Gorge Artists Open Studios Tour Celebrates 20 Years
DESCRIPTION:Gorge Artists Open Studios invites art lovers to come celebrate and experience art as work\, craft\, process and inspiration.  With 50 artists working in 41 studios\, discover a variety of mediums to suit your taste from painting to ceramics\, jewelry to fiber and textiles\, woodworking to photography\, glass to metalsmithing\, basketry to gourd painting\, and so much more.  This is a free\, self-guided tour of artist studios and workspaces located throughout the magnificent Mid-Columbia Gorge region. \n\n\n\nFor more info about the artists and the tour\, with a map of studio locations\, go to the website:  www.gorgeartists.org \n\nTo see what's in store for this year\, also follow us on social media @gorgeartists
X-ALT-DESC;FMTTYPE=text/html:Gorge Artists Open Studios invites art lovers to come celebrate and experience art as work\, craft\, process and inspiration.&nbsp\; With 50 artists working in 41 studios\, discover a variety of mediums to suit your taste from painting to ceramics\, jewelry to fiber and textiles\, woodworking to photography\, glass to metalsmithing\, basketry to gourd painting\, and so much more.&nbsp\; This is a free\, self-guided tour of artist studios and workspaces located throughout the magnificent Mid-Columbia Gorge region.&nbsp\;<br />\n<br />\nFor more info about the artists and the tour\, with a map of studio locations\, go to the website:&nbsp\;<strong> www.gorgeartists.org</strong>&nbsp\;<br />\nTo see what&#39\;s in store for this year\, also follow us on social media <strong>@gorgeartists</strong>
LOCATION:41 Studio locations within the counties of Hood River and Wasco in Oregon\; Skamania and Klickitat counties in Washington Go to website: www.gorgeartists.org for artists information\, studio locations and directions.
UID:e.9103.22140
SEQUENCE:3
DTSTAMP:20260420T135721Z
URL:https://business.oregonfestivals.org/events/details/2026-gorge-artists-open-studios-tour-celebrates-20-years-22140
END:VEVENT

END:VCALENDAR
