BEGIN:VCALENDAR
VERSION:2.0
PRODID:-//ChamberMaster//Event Calendar 2.0//EN
METHOD:PUBLISH
X-PUBLISHED-TTL:P3D
REFRESH-INTERVAL:P3D
CALSCALE:GREGORIAN
BEGIN:VEVENT
DTSTART:20241204T190000Z
DTEND:20241204T213000Z
X-MICROSOFT-CDO-ALLDAYEVENT:FALSE
SUMMARY:Sensory Friendly Carousel Ride
DESCRIPTION:Join the Albany Carousel for a sensory-friendly ride!\n\nTo provide a more accepting and comfortable setting for individuals on the autism spectrum or with sensory sensitivities and their families\, we will slow the carousel down to a jog and turn off the organ music.\n\nIt's our hope to provide a fun and inviting space for everyone. So put on your blue and join us!
X-ALT-DESC;FMTTYPE=text/html:<p>Join the Albany Carousel for a sensory-friendly ride!</p>\n\n<p>To provide a more accepting and comfortable setting for individuals on the autism spectrum or with sensory sensitivities and their families\, we will slow the carousel down to a jog and turn off the organ music.</p>\n\n<p>It&rsquo\;s our hope to provide a fun and inviting space for everyone. So put on your blue and join us!</p>\n
LOCATION:The Historic Carousel & Museum\, Albany\, OR 503 W 1st Ave Albany\, OR 97321
UID:e.9103.21012
SEQUENCE:3
DTSTAMP:20260425T192206Z
URL:http://business.oregonfestivals.org/events/details/sensory-friendly-carousel-ride-12-04-2024-21012
END:VEVENT

END:VCALENDAR
