BEGIN:VCALENDAR
VERSION:2.0
PRODID:-//ChamberMaster//Event Calendar 2.0//EN
METHOD:PUBLISH
X-PUBLISHED-TTL:P3D
REFRESH-INTERVAL:P3D
CALSCALE:GREGORIAN
BEGIN:VEVENT
DTSTART:20230501T190000Z
DTEND:20230601T065500Z
X-MICROSOFT-CDO-ALLDAYEVENT:FALSE
SUMMARY:National Tour de Tush (Virtual)
DESCRIPTION:The Tour de Tush is a nationwide virtual cycling event hosted by the Colon Cancer Coalition\, and raises awareness and funds for colon cancer research.
X-ALT-DESC;FMTTYPE=text/html:The Tour de Tush is a nationwide virtual cycling event hosted by the Colon Cancer Coalition\, and raises awareness and funds for colon cancer research.
LOCATION:This is a virtual event\, so ride from anywhere!
UID:e.9103.19956
SEQUENCE:3
DTSTAMP:20260423T170511Z
URL:http://business.oregonfestivals.org/events/details/national-tour-de-tush-virtual-19956
END:VEVENT

END:VCALENDAR
