BEGIN:VCALENDAR
VERSION:2.0
PRODID:-//ChamberMaster//Event Calendar 2.0//EN
METHOD:PUBLISH
X-PUBLISHED-TTL:P3D
REFRESH-INTERVAL:P3D
CALSCALE:GREGORIAN
BEGIN:VEVENT
DTSTART:20250711T160000Z
DTEND:20250713T230000Z
X-MICROSOFT-CDO-ALLDAYEVENT:FALSE
SUMMARY:8th Annual Lavender Festival & Farm Tour
DESCRIPTION:Join us for the 8th Annual Lavender Festival & Farm Tour at Growing Miracles Lavender Garden July 11th\, 12th & 13th!\n\nFeaturing:\n\n\n	70+ Artisan Booths\n	U-Pick Lavender\n	Food\n	Essential Oil Distillation\n	Music\n	8am Yoga In The Lavender\n	Lavender Wreaths &  Wand Booth\n\n\nFor more information visit: https://growingmiracleslavendergarden.com/lavender-festival\n\nContact Info. ~ Email: keri@growingmiracleslavendergarden.com / Phone: (541) 817-6111
X-ALT-DESC;FMTTYPE=text/html:<p>Join us for the 8th Annual Lavender Festival &amp\; Farm Tour at Growing Miracles Lavender Garden July 11th\, 12th &amp\; 13th!</p>\n\n<p><strong>Featuring:</strong></p>\n\n<ul>\n	<li>70+ Artisan Booths</li>\n	<li>U-Pick Lavender</li>\n	<li>Food</li>\n	<li>Essential Oil Distillation</li>\n	<li>Music</li>\n	<li>8am Yoga In The Lavender</li>\n	<li>Lavender Wreaths &amp\; &nbsp\;Wand Booth</li>\n</ul>\n\n<p>For more information visit:&nbsp\;<a href="https://growingmiracleslavendergarden.com/lavender-festival">https://growingmiracleslavendergarden.com/lavender-festival</a></p>\n\n<p>Contact Info. ~ Email:&nbsp\;<a href="mailto:keri@growingmiracleslavendergarden.com">keri@growingmiracleslavendergarden.com</a>&nbsp\;/ Phone: (541) 817-6111</p>\n
LOCATION:Growing Miracles Lavender Garden
UID:e.9103.21909
SEQUENCE:3
DTSTAMP:20260421T084255Z
URL:http://business.oregonfestivals.org/events/details/8th-annual-lavender-festival-farm-tour-21909
END:VEVENT

END:VCALENDAR
